BEGIN:VCALENDAR
VERSION:2.0
PRODID:-//Asian Beacon - ECPv6.15.11//NONSGML v1.0//EN
CALSCALE:GREGORIAN
METHOD:PUBLISH
X-WR-CALNAME:Asian Beacon
X-ORIGINAL-URL:https://asianbeacon.org
X-WR-CALDESC:Events for Asian Beacon
REFRESH-INTERVAL;VALUE=DURATION:PT1H
X-Robots-Tag:noindex
X-PUBLISHED-TTL:PT1H
BEGIN:VTIMEZONE
TZID:UTC
BEGIN:STANDARD
TZOFFSETFROM:+0000
TZOFFSETTO:+0000
TZNAME:UTC
DTSTART:20250101T000000
END:STANDARD
END:VTIMEZONE
BEGIN:VEVENT
DTSTART;VALUE=DATE:20260429
DTEND;VALUE=DATE:20260503
DTSTAMP:20260425T102906
CREATED:20251106T055317Z
LAST-MODIFIED:20251106T055317Z
UID:21593-1777420800-1777766399@asianbeacon.org
SUMMARY:In His Image Conference 2026
DESCRIPTION:‘In His Image’ is a four-day conference that offers a prophetic perspective that has long been lost in the history of Christianity\, presenting a perspective that will deepen our understanding that God is both masculine and feminine and that we are created fully in His image. There is a war being waged by the enemy against (masculinity) and (femininity) for a very specific reason; that is to destroy the image of God in us all. \nThis conference is timely and relevant\, as God is beginning to pour His love into the foundations of our hearts as it was in the beginning and to bring a deeper revelation of God to the human heart. \nFor more information\, contact events@fatherheart.info
URL:https://asianbeacon.org/event/in-his-image-conference-fatherheart-ministries-2026/
LOCATION:M Social Resort\, Tanjung Bunga\, Penang\, Malaysia
ATTACH;FMTTYPE=image/jpeg:https://asianbeacon.org/wp-content/uploads/2025/11/InHisImage.jpg
END:VEVENT
END:VCALENDAR